BEGIN:VCALENDAR
VERSION:2.0
PRODID:-//KVC Missouri - ECPv6.15.20//NONSGML v1.0//EN
CALSCALE:GREGORIAN
METHOD:PUBLISH
X-ORIGINAL-URL:https://missouri.kvc.org
X-WR-CALDESC:Events for KVC Missouri
REFRESH-INTERVAL;VALUE=DURATION:PT1H
X-Robots-Tag:noindex
X-PUBLISHED-TTL:PT1H
BEGIN:VTIMEZONE
TZID:UTC
BEGIN:STANDARD
TZOFFSETFROM:+0000
TZOFFSETTO:+0000
TZNAME:UTC
DTSTART:20240101T000000
END:STANDARD
END:VTIMEZONE
BEGIN:VEVENT
DTSTART;TZID=UTC:20250425T110000
DTEND;TZID=UTC:20250425T133000
DTSTAMP:20260422T101927
CREATED:20250130T224322Z
LAST-MODIFIED:20250226T024244Z
UID:10000301-1745578800-1745587800@missouri.kvc.org
SUMMARY:Purses With A Purpose - Hosted by KVC Missouri Friends
DESCRIPTION:Purses With a Purpose raises funds to empower families\, prevent child abuse and neglect and promote mental wellness. On April 25th\, 2025\, join KVC Missouri at The Ritz-Carlton for an inspiring afternoon of community and meaningful action. We look forward to having you as our guest! \nEvent: Purses With A Purpose hosted by KVC Missouri Friends \nDate: Friday\, April 25\, 2025 \nTime: 11:00 a.m. – 1:30 p.m. \nLocation: The Ritz Carlton – 100 Carondelet Plaza – St. Louis\, MO 63105 \nConsider attending\, sponsoring\, or donating to this special event. Learn more here. \nRegister today for Purses With A Purpose!
URL:https://missouri.kvc.org/event/purses-with-a-purpose-hosted-by-kvc-missouri-friends-2/
LOCATION:MO
CATEGORIES:Fundraising
ATTACH;FMTTYPE=image/png:https://missouri.kvc.org/wp-content/uploads/sites/9/2025/01/2025-Facebook-Event-Cover-Photos-1.png
END:VEVENT
END:VCALENDAR