BEGIN:VCALENDAR
VERSION:2.0
PRODID:-//KVC Missouri - ECPv6.15.20//NONSGML v1.0//EN
CALSCALE:GREGORIAN
METHOD:PUBLISH
X-WR-CALNAME:KVC Missouri
X-ORIGINAL-URL:https://missouri.kvc.org
X-WR-CALDESC:Events for KVC Missouri
REFRESH-INTERVAL;VALUE=DURATION:PT1H
X-Robots-Tag:noindex
X-PUBLISHED-TTL:PT1H
BEGIN:VTIMEZONE
TZID:UTC
BEGIN:STANDARD
TZOFFSETFROM:+0000
TZOFFSETTO:+0000
TZNAME:UTC
DTSTART:20250101T000000
END:STANDARD
END:VTIMEZONE
BEGIN:VEVENT
DTSTART;TZID=UTC:20260914T180000
DTEND;TZID=UTC:20260914T210000
DTSTAMP:20260424T152222
CREATED:20260320T171144Z
LAST-MODIFIED:20260320T171144Z
UID:10000338-1789408800-1789419600@missouri.kvc.org
SUMMARY:Chefs' Night Out
DESCRIPTION:Join KVC Missouri for the 31st Annual Chefs’ Night Out\, an inspiring evening that brings together community leaders\, partners and talented chefs to support children\, teens and families working toward brighter futures. Held September 14\, 2026\, at the Saint Louis Club\, guests will enjoy exceptional cuisine\, premium beverages\, live entertainment and an exciting auction—all while making a meaningful impact. Proceeds from this special night help expand access to compassionate mental health services and vital family support programs across our community. \nSponsorship and registration details coming soon.
URL:https://missouri.kvc.org/event/chefs-night-out/
LOCATION:Saint Louis Club\, 7676 Forsyth Blvd\, St. Louis\, MO\, 63105\, United States
CATEGORIES:Fundraising
ATTACH;FMTTYPE=image/png:https://missouri.kvc.org/wp-content/uploads/sites/9/2025/06/KVC25_CNO_SaveTheDate-5bProof-1_Page_1.png
END:VEVENT
END:VCALENDAR